BEGIN:VCALENDAR
VERSION:2.0
PRODID:-//Intand Corporation//Tandem//EN
METHOD:PUBLISH
BEGIN:VEVENT
DTSTAMP:20260419T231017Z
DTSTART:20210827T010000Z
DTEND:20210827T033000Z
TRANSP:TRANSPARENT
PRIORITY:0
SUMMARY:[Cancelled] Football\, Varsity: VVHS @ MHS
LOCATION:Wilson Stadium
DESCRIPTION:Groups:\nVolcano Vista High Football Varsity\nManzano High Foo
 tball Varsity\nStadium Use\n\nSchools:\nAPS Athletic Department\nManzano H
 igh\nVolcano Vista High\n\nLocation:\nWilson Stadium\n\n
URL;VALUE=URI:http://dnhs.albuquerquenmus.tandem.co/index.php?type=view&ac
 tion=event&id=96633
CREATED:19700101T000000Z
LAST-MODIFIED:20210827T022117Z
UID:event-96633-albuquerquenmus@intand.com
END:VEVENT
END:VCALENDAR
