BEGIN:VCALENDAR
VERSION:2.0
PRODID:-//Intand Corporation//Tandem//EN
METHOD:PUBLISH
BEGIN:VEVENT
DTSTAMP:20260419T230826Z
DTSTART:20210826T004500Z
DTEND:20210826T024500Z
TRANSP:TRANSPARENT
PRIORITY:0
SUMMARY:Soccer\, Varsity-B: Albuquerque Metro Championships\; Rio Rancho v
 s RGHS
LOCATION:APS Soccer Complex
DESCRIPTION:Groups:\nRio Grande High Soccer Boys Varsity\n\nSchools:\nAPS 
 Athletic Department\nRio Grande High\nRio Rancho High School\n\nLocation:\
 nAPS Soccer Complex\n\n
URL;VALUE=URI:http://dnhs.albuquerquenmus.tandem.co/index.php?type=view&ac
 tion=event&id=96489
CREATED:20210809T213501Z
LAST-MODIFIED:20210809T213501Z
UID:event-96489-albuquerquenmus@intand.com
END:VEVENT
END:VCALENDAR
