BEGIN:VCALENDAR
VERSION:2.0
PRODID:-//Intand Corporation//Tandem//EN
METHOD:PUBLISH
BEGIN:VEVENT
DTSTAMP:20260419T231020Z
DTSTART:20210825T224500Z
DTEND:20210826T004500Z
TRANSP:TRANSPARENT
PRIORITY:0
SUMMARY:Soccer\, Varsity-B: Albuquerque Metro Championships\; VHS vs MHS
LOCATION:APS Soccer Complex
DESCRIPTION:Groups:\nManzano High Soccer Boys Varsity\nValley High Soccer 
 Boys Varsity\n\nSchools:\nAPS Athletic Department\nValley High\nManzano Hi
 gh\n\nLocation:\nAPS Soccer Complex\n\n
URL;VALUE=URI:http://dnhs.albuquerquenmus.tandem.co/index.php?type=view&ac
 tion=event&id=96488
CREATED:20210809T213422Z
LAST-MODIFIED:20210809T213422Z
UID:event-96488-albuquerquenmus@intand.com
END:VEVENT
END:VCALENDAR
