BEGIN:VCALENDAR
VERSION:2.0
PRODID:-//Intand Corporation//Tandem//EN
METHOD:PUBLISH
BEGIN:VEVENT
DTSTAMP:20260419T230951Z
DTSTART:20210824T004500Z
DTEND:20210824T024500Z
TRANSP:TRANSPARENT
PRIORITY:0
SUMMARY:Soccer\, Varsity-B: Albuquerque Metro Championships\; Cleveland vs
  VHS
LOCATION:APS Soccer Complex
DESCRIPTION:Groups:\nValley High Soccer Boys Varsity\n\nSchools:\nV Sue Cl
 eveland High School\nAPS Athletic Department\nValley High\n\nLocation:\nAP
 S Soccer Complex\n\n
URL;VALUE=URI:http://dnhs.albuquerquenmus.tandem.co/index.php?type=view&ac
 tion=event&id=96481
CREATED:20210809T213023Z
LAST-MODIFIED:20210809T213023Z
UID:event-96481-albuquerquenmus@intand.com
END:VEVENT
END:VCALENDAR
