BEGIN:VCALENDAR
VERSION:2.0
PRODID:-//Intand Corporation//Tandem//EN
METHOD:PUBLISH
BEGIN:VEVENT
DTSTAMP:20260419T231012Z
DTSTART:20210924T003000Z
DTEND:20210924T020000Z
TRANSP:TRANSPARENT
PRIORITY:0
SUMMARY:Soccer\, Varsity-B: Belen @ HHS
LOCATION:Highland High
DESCRIPTION:Groups:\nHighland High Soccer Boys Varsity\n\nSchools:\nHighla
 nd High\nBelen High\n\nLocation:\nHighland High\n\n
URL;VALUE=URI:http://dnhs.albuquerquenmus.tandem.co/index.php?type=view&ac
 tion=event&id=95625
CREATED:20210702T202508Z
LAST-MODIFIED:20210702T202508Z
UID:event-95625-albuquerquenmus@intand.com
END:VEVENT
END:VCALENDAR
