BEGIN:VCALENDAR
VERSION:2.0
PRODID:-//Intand Corporation//Tandem//EN
METHOD:PUBLISH
BEGIN:VEVENT
DTSTAMP:20260419T231110Z
DTSTART:20210922T213000Z
DTEND:20210922T230000Z
TRANSP:TRANSPARENT
PRIORITY:0
SUMMARY:Soccer\, Varsity-B: Santa Fe Capital @ RGHS
LOCATION:Rio Grande High
DESCRIPTION:Groups:\nRio Grande High Soccer Boys Varsity\n\nSchools:\nSant
 a Fe Capital High\nRio Grande High\n\nLocation:\nRio Grande High\n\n
URL;VALUE=URI:http://dnhs.albuquerquenmus.tandem.co/index.php?type=view&ac
 tion=event&id=95624
CREATED:20210702T202437Z
LAST-MODIFIED:20210702T202437Z
UID:event-95624-albuquerquenmus@intand.com
END:VEVENT
END:VCALENDAR
