BEGIN:VCALENDAR
VERSION:2.0
PRODID:-//Intand Corporation//Tandem//EN
METHOD:PUBLISH
BEGIN:VEVENT
DTSTAMP:20260419T230843Z
DTSTART:20210916T213000Z
DTEND:20210916T230000Z
TRANSP:TRANSPARENT
PRIORITY:0
SUMMARY:Soccer\, Varsity-B: CHS @ DNHS
LOCATION:Del Norte High
DESCRIPTION:Groups:\nCibola High Soccer Boys Varsity\nDel Norte High Socce
 r Boys Varsity\n\nSchools:\nCibola High\nDel Norte High\n\nLocation:\nDel 
 Norte High\n\n
URL;VALUE=URI:http://dnhs.albuquerquenmus.tandem.co/index.php?type=view&ac
 tion=event&id=95602
CREATED:20210702T201204Z
LAST-MODIFIED:20210702T201204Z
UID:event-95602-albuquerquenmus@intand.com
END:VEVENT
END:VCALENDAR
