BEGIN:VCALENDAR
VERSION:2.0
PRODID:-//Intand Corporation//Tandem//EN
METHOD:PUBLISH
BEGIN:VEVENT
DTSTAMP:20260419T230835Z
DTSTART:20211014T223000Z
DTEND:20211015T000000Z
TRANSP:TRANSPARENT
PRIORITY:0
SUMMARY:[Cancelled] Soccer\, JV-B: VHS @ HHS
LOCATION:Highland High
DESCRIPTION:Groups:\nValley High Soccer Boys JV\nHighland High Soccer Boys
  JV\n\nSchools:\nValley High\nHighland High\n\nLocation:\nHighland High\n\
 n
URL;VALUE=URI:http://dnhs.albuquerquenmus.tandem.co/index.php?type=view&ac
 tion=event&id=95553
CREATED:20210702T193519Z
LAST-MODIFIED:20210814T145330Z
UID:event-95553-albuquerquenmus@intand.com
END:VEVENT
END:VCALENDAR
