BEGIN:VCALENDAR
VERSION:2.0
PRODID:-//Intand Corporation//Tandem//EN
METHOD:PUBLISH
BEGIN:VEVENT
DTSTAMP:20260419T230836Z
DTSTART:20211006T231500Z
DTEND:20211007T004500Z
TRANSP:TRANSPARENT
PRIORITY:0
SUMMARY:Soccer\, JV-B: Los Lunas @ AHS
LOCATION:Albuquerque High
DESCRIPTION:Groups:\nAlbuquerque High Soccer Boys JV\n\nSchools:\nLos Luna
 s High\nAlbuquerque High\n\nLocation:\nAlbuquerque High\n\n
URL;VALUE=URI:http://dnhs.albuquerquenmus.tandem.co/index.php?type=view&ac
 tion=event&id=95528
CREATED:20210702T191937Z
LAST-MODIFIED:20210702T191937Z
UID:event-95528-albuquerquenmus@intand.com
END:VEVENT
END:VCALENDAR
