BEGIN:VCALENDAR
VERSION:2.0
PRODID:-//Intand Corporation//Tandem//EN
METHOD:PUBLISH
BEGIN:VEVENT
DTSTAMP:20260419T231024Z
DTSTART:20211002T190000Z
DTEND:20211002T203000Z
TRANSP:TRANSPARENT
PRIORITY:0
SUMMARY:Soccer\, JV-B: AHS @ MHS
LOCATION:Manzano High
DESCRIPTION:Groups:\nAlbuquerque High Soccer Boys JV\nManzano High Soccer 
 Boys JV\n\nSchools:\nAlbuquerque High\nManzano High\n\nLocation:\nManzano 
 High\n\n
URL;VALUE=URI:http://dnhs.albuquerquenmus.tandem.co/index.php?type=view&ac
 tion=event&id=95519
CREATED:20210702T191447Z
LAST-MODIFIED:20210702T191447Z
UID:event-95519-albuquerquenmus@intand.com
END:VEVENT
END:VCALENDAR
