BEGIN:VCALENDAR
VERSION:2.0
PRODID:-//Intand Corporation//Tandem//EN
METHOD:PUBLISH
BEGIN:VEVENT
DTSTAMP:20260419T231023Z
DTSTART:20210929T231500Z
DTEND:20210930T004500Z
TRANSP:TRANSPARENT
PRIORITY:0
SUMMARY:Soccer\, JV-B: AHA @ VVHS
LOCATION:Volcano Vista High
DESCRIPTION:Groups:\nAtrisco Heritage Academy Soccer Boys JV\nVolcano Vist
 a High Soccer Boys JV\n\nSchools:\nAtrisco Heritage Academy\nVolcano Vista
  High\n\nLocation:\nVolcano Vista High\n\n
URL;VALUE=URI:http://dnhs.albuquerquenmus.tandem.co/index.php?type=view&ac
 tion=event&id=95513
CREATED:20210702T191053Z
LAST-MODIFIED:20210702T191053Z
UID:event-95513-albuquerquenmus@intand.com
END:VEVENT
END:VCALENDAR
