BEGIN:VCALENDAR
VERSION:2.0
PRODID:-//Intand Corporation//Tandem//EN
METHOD:PUBLISH
BEGIN:VEVENT
DTSTAMP:20260419T230844Z
DTSTART:20210918T150000Z
DTEND:20210918T163000Z
TRANSP:TRANSPARENT
PRIORITY:0
SUMMARY:Soccer\, JV-B: MHS @ DNHS
LOCATION:Del Norte High
DESCRIPTION:Groups:\nDel Norte High Soccer Boys JV\nManzano High Soccer Bo
 ys JV\n\nSchools:\nManzano High\nDel Norte High\n\nLocation:\nDel Norte Hi
 gh\n\n
URL;VALUE=URI:http://dnhs.albuquerquenmus.tandem.co/index.php?type=view&ac
 tion=event&id=95480
CREATED:20210702T184846Z
LAST-MODIFIED:20210702T184846Z
UID:event-95480-albuquerquenmus@intand.com
END:VEVENT
END:VCALENDAR
