BEGIN:VCALENDAR
VERSION:2.0
PRODID:-//Intand Corporation//Tandem//EN
METHOD:PUBLISH
BEGIN:VEVENT
DTSTAMP:20260419T230808Z
DTSTART:20211023T190000Z
DTEND:20211023T203000Z
TRANSP:TRANSPARENT
PRIORITY:0
SUMMARY:Soccer\, JV-G: CHS @ VVHS
LOCATION:Volcano Vista High
DESCRIPTION:Groups:\nCibola High Soccer Girls JV\nVolcano Vista High Socce
 r Girls JV\n\nSchools:\nCibola High\nVolcano Vista High\n\nLocation:\nVolc
 ano Vista High\n\n
URL;VALUE=URI:http://dnhs.albuquerquenmus.tandem.co/index.php?type=view&ac
 tion=event&id=95445
CREATED:20210702T180227Z
LAST-MODIFIED:20210702T180227Z
UID:event-95445-albuquerquenmus@intand.com
END:VEVENT
END:VCALENDAR
