BEGIN:VCALENDAR
VERSION:2.0
PRODID:-//Intand Corporation//Tandem//EN
METHOD:PUBLISH
BEGIN:VEVENT
DTSTAMP:20260419T230826Z
DTSTART:20211002T190000Z
DTEND:20211002T203000Z
TRANSP:TRANSPARENT
PRIORITY:0
SUMMARY:[Cancelled] Soccer\, JV-G: AHA @ VHS
LOCATION:APS Soccer Complex
DESCRIPTION:Groups:\nAtrisco Heritage Academy Soccer Girls JV\nValley High
  Soccer Girls JV\n\nSchools:\nAPS Athletic Department\nAtrisco Heritage Ac
 ademy\nValley High\n\nLocation:\nAPS Soccer Complex\n\n
URL;VALUE=URI:http://dnhs.albuquerquenmus.tandem.co/index.php?type=view&ac
 tion=event&id=95391
CREATED:20210702T153334Z
LAST-MODIFIED:20210815T141053Z
UID:event-95391-albuquerquenmus@intand.com
END:VEVENT
END:VCALENDAR
