BEGIN:VCALENDAR
VERSION:2.0
PRODID:-//Intand Corporation//Tandem//EN
METHOD:PUBLISH
BEGIN:VEVENT
DTSTAMP:20260419T231012Z
DTSTART:20211002T190000Z
DTEND:20211002T203000Z
TRANSP:TRANSPARENT
PRIORITY:0
SUMMARY:Soccer\, JV-G: Farmington @ LCHS
LOCATION:APS Soccer Complex
DESCRIPTION:Groups:\nLa Cueva High Soccer Girls JV\n\nSchools:\nAPS Athlet
 ic Department\nLa Cueva High\nFarmington High\n\nLocation:\nAPS Soccer Com
 plex\n\n
URL;VALUE=URI:http://dnhs.albuquerquenmus.tandem.co/index.php?type=view&ac
 tion=event&id=95389
CREATED:20210702T153234Z
LAST-MODIFIED:20210702T153234Z
UID:event-95389-albuquerquenmus@intand.com
END:VEVENT
END:VCALENDAR
