BEGIN:VCALENDAR
VERSION:2.0
PRODID:-//Intand Corporation//Tandem//EN
METHOD:PUBLISH
BEGIN:VEVENT
DTSTAMP:20260419T231127Z
DTSTART:20210925T170000Z
DTEND:20210925T183000Z
TRANSP:TRANSPARENT
PRIORITY:0
SUMMARY:Soccer\, JV-G: EHS @ SHS
LOCATION:APS Soccer Complex
DESCRIPTION:Groups:\nEldorado High Soccer Girls JV\nSandia High Soccer Gir
 ls JV\n\nSchools:\nAPS Athletic Department\nSandia High\nEldorado High\n\n
 Location:\nAPS Soccer Complex\n\n
URL;VALUE=URI:http://dnhs.albuquerquenmus.tandem.co/index.php?type=view&ac
 tion=event&id=95373
CREATED:20210702T152346Z
LAST-MODIFIED:20210702T152346Z
UID:event-95373-albuquerquenmus@intand.com
END:VEVENT
END:VCALENDAR
