BEGIN:VCALENDAR
VERSION:2.0
PRODID:-//Intand Corporation//Tandem//EN
METHOD:PUBLISH
BEGIN:VEVENT
DTSTAMP:20260419T230936Z
DTSTART:20210911T190000Z
DTEND:20210911T203000Z
TRANSP:TRANSPARENT
PRIORITY:0
SUMMARY:Soccer\, JV-G: Hobbs @ AHS
LOCATION:Albuquerque High
DESCRIPTION:Groups:\nAlbuquerque High Soccer Girls JV\n\nSchools:\nAlbuque
 rque High\nHobbs High School\n\nLocation:\nAlbuquerque High\n\n
URL;VALUE=URI:http://dnhs.albuquerquenmus.tandem.co/index.php?type=view&ac
 tion=event&id=95336
CREATED:20210702T145908Z
LAST-MODIFIED:20210702T145908Z
UID:event-95336-albuquerquenmus@intand.com
END:VEVENT
END:VCALENDAR
