BEGIN:VCALENDAR
VERSION:2.0
PRODID:-//Intand Corporation//Tandem//EN
METHOD:PUBLISH
BEGIN:VEVENT
DTSTAMP:20260419T230937Z
DTSTART:20211016T170000Z
DTEND:20211016T183000Z
TRANSP:TRANSPARENT
PRIORITY:0
SUMMARY:Soccer\, Varsity-G: Santa Fe @ MHS
LOCATION:Manzano High
DESCRIPTION:Groups:\nManzano High Soccer Girls Varsity\n\nSchools:\nSanta 
 Fe High\nManzano High\n\nLocation:\nManzano High\n\n
URL;VALUE=URI:http://dnhs.albuquerquenmus.tandem.co/index.php?type=view&ac
 tion=event&id=95309
CREATED:20210702T142631Z
LAST-MODIFIED:20210702T142631Z
UID:event-95309-albuquerquenmus@intand.com
END:VEVENT
END:VCALENDAR
