BEGIN:VCALENDAR
VERSION:2.0
PRODID:-//Intand Corporation//Tandem//EN
METHOD:PUBLISH
BEGIN:VEVENT
DTSTAMP:20260419T230925Z
DTSTART:20211009T170000Z
DTEND:20211009T183000Z
TRANSP:TRANSPARENT
PRIORITY:0
SUMMARY:Soccer\, Varsity-G: Santa Fe @ AHS
LOCATION:Albuquerque High
DESCRIPTION:Groups:\nAlbuquerque High Soccer Girls Varsity\n\nSchools:\nSa
 nta Fe High\nAlbuquerque High\n\nLocation:\nAlbuquerque High\n\n
URL;VALUE=URI:http://dnhs.albuquerquenmus.tandem.co/index.php?type=view&ac
 tion=event&id=95288
CREATED:20210702T141010Z
LAST-MODIFIED:20210702T141010Z
UID:event-95288-albuquerquenmus@intand.com
END:VEVENT
END:VCALENDAR
