BEGIN:VCALENDAR
VERSION:2.0
PRODID:-//Intand Corporation//Tandem//EN
METHOD:PUBLISH
BEGIN:VEVENT
DTSTAMP:20260419T230828Z
DTSTART:20210929T004500Z
DTEND:20210929T021500Z
TRANSP:TRANSPARENT
PRIORITY:0
SUMMARY:Soccer\, Varsity-G: SHS @ LCHS
LOCATION:APS Soccer Complex
DESCRIPTION:Groups:\nLa Cueva High Soccer Girls Varsity\nSandia High Socce
 r Girls Varsity\n\nSchools:\nAPS Athletic Department\nLa Cueva High\nSandi
 a High\n\nLocation:\nAPS Soccer Complex\n\n
URL;VALUE=URI:http://dnhs.albuquerquenmus.tandem.co/index.php?type=view&ac
 tion=event&id=95261
CREATED:20210702T135223Z
LAST-MODIFIED:20210702T135223Z
UID:event-95261-albuquerquenmus@intand.com
END:VEVENT
END:VCALENDAR
