BEGIN:VCALENDAR
VERSION:2.0
PRODID:-//Intand Corporation//Tandem//EN
METHOD:PUBLISH
BEGIN:VEVENT
DTSTAMP:20260419T230934Z
DTSTART:20210907T213000Z
DTEND:20210907T230000Z
TRANSP:TRANSPARENT
PRIORITY:0
SUMMARY:[Cancelled] Soccer\, Varsity-G: DNHS @ AHS
LOCATION:Albuquerque High
DESCRIPTION:Groups:\nAlbuquerque High Soccer Girls Varsity\nDel Norte High
  Soccer Girls Varsity\n\nSchools:\nAlbuquerque High\nDel Norte High\n\nLoc
 ation:\nAlbuquerque High\n\n
URL;VALUE=URI:http://dnhs.albuquerquenmus.tandem.co/index.php?type=view&ac
 tion=event&id=95206
CREATED:20210702T131124Z
LAST-MODIFIED:20210907T164116Z
UID:event-95206-albuquerquenmus@intand.com
END:VEVENT
END:VCALENDAR
