BEGIN:VCALENDAR
VERSION:2.0
PRODID:-//Intand Corporation//Tandem//EN
METHOD:PUBLISH
BEGIN:VEVENT
DTSTAMP:20260419T230843Z
DTSTART:20210907T223000Z
DTEND:20210908T000000Z
TRANSP:TRANSPARENT
PRIORITY:0
SUMMARY:[Cancelled] Soccer\, JV-G: Valencia @ WMHS
LOCATION:APS Soccer Complex
DESCRIPTION:Groups:\nWest Mesa High Soccer Girls JV\n\nSchools:\nAPS Athle
 tic Department\nWest Mesa High\nValencia High\n\nLocation:\nAPS Soccer Com
 plex\n\n
URL;VALUE=URI:http://dnhs.albuquerquenmus.tandem.co/index.php?type=view&ac
 tion=event&id=95205
CREATED:20210702T131033Z
LAST-MODIFIED:20210807T232927Z
UID:event-95205-albuquerquenmus@intand.com
END:VEVENT
END:VCALENDAR
