BEGIN:VCALENDAR
VERSION:2.0
PRODID:-//Intand Corporation//Tandem//EN
METHOD:PUBLISH
BEGIN:VEVENT
DTSTAMP:20260419T231021Z
DTSTART:20211013T010000Z
DTEND:20211013T033000Z
TRANSP:TRANSPARENT
PRIORITY:0
SUMMARY:Football\, C-Team: CHS @ VVHS
LOCATION:Nusenda Community Stadium
DESCRIPTION:Groups:\nStadium Use\nCibola High Football C-Team\nVolcano Vis
 ta High Football C-Team\n\nSchools:\nAPS Athletic Department\nCibola High\
 nVolcano Vista High\n\nLocation:\nNusenda Community Stadium\n\n
URL;VALUE=URI:http://dnhs.albuquerquenmus.tandem.co/index.php?type=view&ac
 tion=event&id=95116
CREATED:20210624T235731Z
LAST-MODIFIED:20210624T235731Z
UID:event-95116-albuquerquenmus@intand.com
END:VEVENT
END:VCALENDAR
