BEGIN:VCALENDAR
VERSION:2.0
PRODID:-//Intand Corporation//Tandem//EN
METHOD:PUBLISH
BEGIN:VEVENT
DTSTAMP:20260419T230817Z
DTSTART:20211016T010000Z
DTEND:20211016T033000Z
TRANSP:TRANSPARENT
PRIORITY:0
SUMMARY:Football\, Varsity: WMHS @ CHS
LOCATION:Nusenda Community Stadium
DESCRIPTION:Groups:\nWest Mesa High Football Varsity\nStadium Use\nCibola 
 High Football Varsity\n\nSchools:\nAPS Athletic Department\nCibola High\nW
 est Mesa High\n\nLocation:\nNusenda Community Stadium\n\n
URL;VALUE=URI:http://dnhs.albuquerquenmus.tandem.co/index.php?type=view&ac
 tion=event&id=95002
CREATED:20210605T032014Z
LAST-MODIFIED:20210816T150124Z
UID:event-95002-albuquerquenmus@intand.com
END:VEVENT
END:VCALENDAR
