BEGIN:VCALENDAR
VERSION:2.0
PRODID:-//Intand Corporation//Tandem//EN
METHOD:PUBLISH
BEGIN:VEVENT
DTSTAMP:20260419T231139Z
DTSTART:20211009T210000Z
DTEND:20211009T233000Z
TRANSP:TRANSPARENT
PRIORITY:0
SUMMARY:[Cancelled] Football\, Varsity: Rio Rancho @ WMHS
LOCATION:Nusenda Community Stadium
DESCRIPTION:Groups:\nWest Mesa High Football Varsity\nStadium Use\n\nSchoo
 ls:\nAPS Athletic Department\nWest Mesa High\nRio Rancho High School\n\nLo
 cation:\nNusenda Community Stadium\n\n
URL;VALUE=URI:http://dnhs.albuquerquenmus.tandem.co/index.php?type=view&ac
 tion=event&id=94999
CREATED:20210605T031820Z
LAST-MODIFIED:20211004T150507Z
UID:event-94999-albuquerquenmus@intand.com
END:VEVENT
END:VCALENDAR
