BEGIN:VCALENDAR
VERSION:2.0
PRODID:-//Intand Corporation//Tandem//EN
METHOD:PUBLISH
BEGIN:VEVENT
DTSTAMP:20260419T230929Z
DTSTART:20210828T010000Z
DTEND:20210828T033000Z
TRANSP:TRANSPARENT
PRIORITY:0
SUMMARY:Football\, Varsity: Rio Rancho @ LCHS (Homecoming)
LOCATION:Wilson Stadium
DESCRIPTION:Groups:\nStadium Use\nLa Cueva High Football Varsity\n\nSchool
 s:\nAPS Athletic Department\nLa Cueva High\nRio Rancho High School\n\nLoca
 tion:\nWilson Stadium\n\n
URL;VALUE=URI:http://dnhs.albuquerquenmus.tandem.co/index.php?type=view&ac
 tion=event&id=94947
CREATED:20210605T024532Z
LAST-MODIFIED:20210807T191401Z
UID:event-94947-albuquerquenmus@intand.com
END:VEVENT
END:VCALENDAR
