BEGIN:VCALENDAR
VERSION:2.0
PRODID:-//Intand Corporation//Tandem//EN
METHOD:PUBLISH
BEGIN:VEVENT
DTSTAMP:20260419T231115Z
DTSTART:20210828T160000Z
DTEND:20210828T183000Z
TRANSP:TRANSPARENT
PRIORITY:0
SUMMARY:[Cancelled] Football\, Varsity: RGHS @ AHA (Homecoming)
LOCATION:Nusenda Community Stadium
DESCRIPTION:Groups:\nStadium Use\nRio Grande High Football Varsity\nAtrisc
 o Heritage Academy Football Varsity\n\nSchools:\nAPS Athletic Department\n
 Atrisco Heritage Academy\nRio Grande High\n\nLocation:\nNusenda Community 
 Stadium\n\n
URL;VALUE=URI:http://dnhs.albuquerquenmus.tandem.co/index.php?type=view&ac
 tion=event&id=94942
CREATED:20210605T024246Z
LAST-MODIFIED:20210827T025257Z
UID:event-94942-albuquerquenmus@intand.com
END:VEVENT
END:VCALENDAR
