BEGIN:VCALENDAR
VERSION:2.0
PRODID:-//Intand Corporation//Tandem//EN
METHOD:PUBLISH
BEGIN:VEVENT
DTSTAMP:20260419T231018Z
DTSTART:20210821T010000Z
DTEND:20210821T033000Z
TRANSP:TRANSPARENT
PRIORITY:0
SUMMARY:Football\, Varsity: Mayfield @ MHS
LOCATION:Wilson Stadium
DESCRIPTION:Groups:\nStadium Use\nManzano High Football Varsity\n\nSchools
 :\nAPS Athletic Department\nMayfield High\nManzano High\n\nLocation:\nWils
 on Stadium\n\n
URL;VALUE=URI:http://dnhs.albuquerquenmus.tandem.co/index.php?type=view&ac
 tion=event&id=94938
CREATED:20210605T023955Z
LAST-MODIFIED:20210629T164600Z
UID:event-94938-albuquerquenmus@intand.com
END:VEVENT
END:VCALENDAR
