BEGIN:VCALENDAR
VERSION:2.0
PRODID:-//Intand Corporation//Tandem//EN
METHOD:PUBLISH
BEGIN:VEVENT
DTSTAMP:20260419T230920Z
DTSTART:20210821T010000Z
DTEND:20210821T033000Z
TRANSP:TRANSPARENT
PRIORITY:0
SUMMARY:[Cancelled] Football\, Varsity: DNHS @ AHA
LOCATION:Nusenda Community Stadium
DESCRIPTION:Groups:\nStadium Use\nDel Norte High Football Varsity\nAtrisco
  Heritage Academy Football Varsity\n\nSchools:\nAPS Athletic Department\nA
 trisco Heritage Academy\nDel Norte High\n\nLocation:\nNusenda Community St
 adium\n\n
URL;VALUE=URI:http://dnhs.albuquerquenmus.tandem.co/index.php?type=view&ac
 tion=event&id=94936
CREATED:20210605T022912Z
LAST-MODIFIED:20210817T170038Z
UID:event-94936-albuquerquenmus@intand.com
END:VEVENT
END:VCALENDAR
