BEGIN:VCALENDAR
VERSION:2.0
PRODID:-//Intand Corporation//Tandem//EN
METHOD:PUBLISH
BEGIN:VEVENT
DTSTAMP:20260419T231131Z
DTSTART;VALUE=DATE:20210525
DTEND;VALUE=DATE:20210526
TRANSP:TRANSPARENT
PRIORITY:0
SUMMARY:Golf\, Varsity-B&G: Los Altos GC (Hosts: MHS/AHS)
LOCATION:Los Altos Golf Course
DESCRIPTION:Tee-Times Primary Host: Manzano Assistant Host: Albuquerque\n\
 nSetup: TBD\nBreakdown: TBD\n\nDepart: TBD\nReturn: TBD\n\nGroups:\nAlbuqu
 erque High Golf Boys\nAlbuquerque High Golf Girls\nManzano High Golf Boys 
 Varsity\nManzano High Golf Girls Varsity\nAtrisco Heritage Academy Golf Bo
 ys\nAtrisco Heritage Academy Golf Girls\nCibola High Golf Boys\nCibola Hig
 h Golf Girls\nLa Cueva High Golf Boys Varsity\nLa Cueva High Golf Girls Va
 rsity\nValley High Golf Boys Varsity\nValley High Golf Girls Varsity\n\nSc
 hools:\nAtrisco Heritage Academy\nCibola High\nLa Cueva High\nValley High\
 nAlbuquerque High\nManzano High\n\nLocation:\nLos Altos Golf Course\n\n
URL;VALUE=URI:http://dnhs.albuquerquenmus.tandem.co/index.php?type=view&ac
 tion=event&id=93981
CREATED:20210406T135104Z
LAST-MODIFIED:20210406T135104Z
UID:event-93981-albuquerquenmus@intand.com
END:VEVENT
END:VCALENDAR
