BEGIN:VCALENDAR
VERSION:2.0
PRODID:-//Intand Corporation//Tandem//EN
METHOD:PUBLISH
BEGIN:VEVENT
DTSTAMP:20260419T230948Z
DTSTART;VALUE=DATE:20210512
DTEND;VALUE=DATE:20210513
TRANSP:TRANSPARENT
PRIORITY:0
SUMMARY:Golf\, Varsity-B&G: Ladera GC (Hosts: WMHS/SHS)
LOCATION:Ladera Golf Course
DESCRIPTION:Tee-Times Primary Host: West Mesa Assistant Host: Sandia\n\nSe
 tup: TBD\nBreakdown: TBD\n\nDepart: TBD\nReturn: TBD\n\nGroups:\nWest Mesa
  High Golf Girls Varsity\nWest Mesa High Golf Boys Varsity\nSandia High Go
 lf Girls Varsity\nSandia High Golf Boys Varsity\nRio Grande High Golf Girl
 s Varsity\nRio Grande High Golf Boys Varsity\nHighland High Golf Girls Var
 sity\nHighland High Golf Boys Varsity\nCibola High Golf Girls\nCibola High
  Golf Boys\nAlbuquerque High Golf Girls\nAlbuquerque High Golf Boys\n\nSch
 ools:\nCibola High\nSandia High\nRio Grande High\nAlbuquerque High\nHighla
 nd High\nWest Mesa High\n\nLocation:\nLadera Golf Course\n\n
URL;VALUE=URI:http://dnhs.albuquerquenmus.tandem.co/index.php?type=view&ac
 tion=event&id=93978
CREATED:20210406T134434Z
LAST-MODIFIED:20210507T155315Z
UID:event-93978-albuquerquenmus@intand.com
END:VEVENT
END:VCALENDAR
