BEGIN:VCALENDAR
VERSION:2.0
PRODID:-//Intand Corporation//Tandem//EN
METHOD:PUBLISH
BEGIN:VEVENT
DTSTAMP:20260420T031546Z
DTSTART:20200420T223000Z
DTEND:20200421T013000Z
TRANSP:TRANSPARENT
PRIORITY:0
SUMMARY:[Cancelled] MS Track & Field: @ Community (Host: RGHS)
LOCATION:Nusenda Community Stadium
DESCRIPTION:Host: RGHS\n\nGroups:\nStadium Use\nRio Grande High Track JV B
 oys\nRio Grande High Track JV Girls\nRio Grande High Track Varsity Boys\nR
 io Grande High Track Varsity Girls\n\nSchools:\nAPS Athletic Department\nR
 io Grande High\n\nLocation:\nNusenda Community Stadium\n\n
URL;VALUE=URI:http://dnhs.albuquerquenmus.tandem.co/index.php?type=view&ac
 tion=event&id=90347
CREATED:20200205T175737Z
LAST-MODIFIED:20200330T162528Z
UID:event-90347-albuquerquenmus@intand.com
END:VEVENT
END:VCALENDAR
