BEGIN:VCALENDAR
VERSION:2.0
PRODID:-//Intand Corporation//Tandem//EN
METHOD:PUBLISH
BEGIN:VEVENT
DTSTAMP:20260419T230839Z
DTSTART:20200413T223000Z
DTEND:20200414T013000Z
TRANSP:TRANSPARENT
PRIORITY:0
SUMMARY:[Cancelled] MS Track & Field: @ Wilson (Host: EHS)
LOCATION:Wilson Stadium
DESCRIPTION:Host: EHS\n\nGroups:\nStadium Use\nEldorado High Track Boys JV
 \nEldorado High Track Boys Varsity\nEldorado High Track Girls JV\nEldorado
  High Track Girls Varsity\n\nSchools:\nAPS Athletic Department\nEldorado H
 igh\n\nLocation:\nWilson Stadium\n\n
URL;VALUE=URI:http://dnhs.albuquerquenmus.tandem.co/index.php?type=view&ac
 tion=event&id=90343
CREATED:20200205T175518Z
LAST-MODIFIED:20200330T154724Z
UID:event-90343-albuquerquenmus@intand.com
END:VEVENT
END:VCALENDAR
