BEGIN:VCALENDAR
VERSION:2.0
PRODID:-//Intand Corporation//Tandem//EN
METHOD:PUBLISH
BEGIN:VEVENT
DTSTAMP:20260419T230808Z
DTSTART:20200408T220000Z
DTEND:20200409T013000Z
TRANSP:TRANSPARENT
PRIORITY:0
SUMMARY:[Cancelled] Track\, JV-G: @ Community (Host A: VVHS/VHS\, Host B: 
 MHS/AHA\, Host C: RGHS/LCHS)
LOCATION:Nusenda Community Stadium
DESCRIPTION:Host A: VVHS&VHS\, Host B: MHS&AHA\, Host C: RGHS&LCHS\n\nGrou
 ps:\nWest Mesa High Track JV Girls\nVolcano Vista High Track JV Girls\nVal
 ley High Track JV Girls\nStadium Use\nSandia High Track JV Girls\nRio Gran
 de High Track JV Girls\nManzano High Track JV Girls\nLa Cueva High Track J
 V Girls\nHighland High Track JV Girls\nEldorado High Track Girls JV\nDel N
 orte High Track Girls JV\nCibola High Track Girls JV\nAtrisco Heritage Aca
 demy Track Girls JV\nAlbuquerque High Track Girls JV\n\nSchools:\nAPS Athl
 etic Department\nAtrisco Heritage Academy\nCibola High\nLa Cueva High\nVal
 ley High\nSandia High\nRio Grande High\nLos Lunas High\nAlbuquerque High\n
 Eldorado High\nHighland High\nManzano High\nWest Mesa High\nVolcano Vista 
 High\nDel Norte High\n\nLocation:\nNusenda Community Stadium\n\n
X-ALT-DESC;FMTTYPE=text/html:<!doctype html><html><body>Host A: VVHS&VHS\,
  Host B: MHS&AHA\, Host C: RGHS&LCHS<br /><br />Groups:<br />West Mesa Hig
 h Track JV Girls<br />Volcano Vista High Track JV Girls<br />Valley High T
 rack JV Girls<br />Stadium Use<br />Sandia High Track JV Girls<br />Rio Gr
 ande High Track JV Girls<br />Manzano High Track JV Girls<br />La Cueva Hi
 gh Track JV Girls<br />Highland High Track JV Girls<br />Eldorado High Tra
 ck Girls JV<br />Del Norte High Track Girls JV<br />Cibola High Track Girl
 s JV<br />Atrisco Heritage Academy Track Girls JV<br />Albuquerque High Tr
 ack Girls JV<br /><br />Schools:<br />APS Athletic Department<br />Atrisco
  Heritage Academy<br />Cibola High<br />La Cueva High<br />Valley High<br 
 />Sandia High<br />Rio Grande High<br />Los Lunas High<br />Albuquerque Hi
 gh<br />Eldorado High<br />Highland High<br />Manzano High<br />West Mesa 
 High<br />Volcano Vista High<br />Del Norte High<br /><br />Location:<br /
 >Nusenda Community Stadium<br />Attachments:<br /><a href="http://dnhs.alb
 uquerquenmus.tandem.co/index.php?type=export&action=file&id=3582">Junior V
 arsity Track & Field Meet Format (Final).pdf</a><br /><a href="http://dnhs
 .albuquerquenmus.tandem.co/index.php?type=export&action=file&id=3633">Juni
 or Varsity Track & Field Meet Hosting (Final).pdf</a><br /></body></html>
URL;VALUE=URI:http://dnhs.albuquerquenmus.tandem.co/index.php?type=view&ac
 tion=event&id=90280
CREATED:20200205T172219Z
LAST-MODIFIED:20200330T152920Z
UID:event-90280-albuquerquenmus@intand.com
END:VEVENT
END:VCALENDAR
