BEGIN:VCALENDAR
VERSION:2.0
PRODID:-//Intand Corporation//Tandem//EN
METHOD:PUBLISH
BEGIN:VEVENT
DTSTAMP:20260419T231117Z
DTSTART:20200421T143000Z
DTEND:20200421T163000Z
TRANSP:TRANSPARENT
PRIORITY:0
SUMMARY:[Cancelled] High School Athletic Director Meeting
LOCATION:Athletics Conference Room\, Alice & Bruce King Educational Complex
DESCRIPTION:Groups:\nAPS Admin\nAPS HSAD\n\nSchools:\nAPS Athletic Departm
 ent\nAtrisco Heritage Academy\nCibola High\nLa Cueva High\nValley High\nSa
 ndia High\nRio Grande High\nAlbuquerque High\nEldorado High\nHighland High
 \nManzano High\nWest Mesa High\nVolcano Vista High\nDel Norte High\n\nLoca
 tions:\nAthletics Conference Room\nAlice & Bruce King Educational Complex\
 n\n
URL;VALUE=URI:http://dnhs.albuquerquenmus.tandem.co/index.php?type=view&ac
 tion=event&id=86383
CREATED:20190714T142208Z
LAST-MODIFIED:20200330T162958Z
UID:event-86383-albuquerquenmus@intand.com
END:VEVENT
END:VCALENDAR
