BEGIN:VCALENDAR
VERSION:2.0
PRODID:-//Intand Corporation//Tandem//EN
METHOD:PUBLISH
BEGIN:VEVENT
DTSTAMP:20260419T231143Z
DTSTART:20180419T221500Z
DTEND:20180420T033000Z
TRANSP:TRANSPARENT
PRIORITY:0
SUMMARY:Track\, JV-G: City Championship Finals @ Community (Hosts: ALL)
LOCATION:Nusenda Community Stadium
DESCRIPTION:Hosts: ALL\n\nGroups:\nWest Mesa High Track JV Girls\nVolcano 
 Vista High Track JV Girls\nVarsity Track Meet Officials (VTMO)\nValley Hig
 h Track JV Girls\nStadium Use\nSandia High Track JV Girls\nRio Grande High
  Track JV Girls\nManzano High Track JV Girls\nLa Cueva High Track JV Girls
 \nHighland High Track JV Girls\nEldorado High Track Girls JV\nDel Norte Hi
 gh Track Girls JV\nCibola High Track Girls JV\nAtrisco Heritage Academy Tr
 ack Girls JV\nAlbuquerque High Track Girls JV\n\nSchools:\nV Sue Cleveland
  High School\nAPS Athletic Department\nSt. Pius X High\nAtrisco Heritage A
 cademy\nCibola High\nLa Cueva High\nValley High\nSandia High\nRio Grande H
 igh\nAlbuquerque High\nEldorado High\nHighland High\nManzano High\nWest Me
 sa High\nVolcano Vista High\nAlbuquerque Academy High\nRio Rancho High Sch
 ool\nDel Norte High\n\nLocation:\nNusenda Community Stadium\n\n
X-ALT-DESC;FMTTYPE=text/html:<!doctype html><html><body>Hosts: ALL<br /><b
 r />Groups:<br />West Mesa High Track JV Girls<br />Volcano Vista High Tra
 ck JV Girls<br />Varsity Track Meet Officials (VTMO)<br />Valley High Trac
 k JV Girls<br />Stadium Use<br />Sandia High Track JV Girls<br />Rio Grand
 e High Track JV Girls<br />Manzano High Track JV Girls<br />La Cueva High 
 Track JV Girls<br />Highland High Track JV Girls<br />Eldorado High Track 
 Girls JV<br />Del Norte High Track Girls JV<br />Cibola High Track Girls J
 V<br />Atrisco Heritage Academy Track Girls JV<br />Albuquerque High Track
  Girls JV<br /><br />Schools:<br />V Sue Cleveland High School<br />APS At
 hletic Department<br />St. Pius X High<br />Atrisco Heritage Academy<br />
 Cibola High<br />La Cueva High<br />Valley High<br />Sandia High<br />Rio 
 Grande High<br />Albuquerque High<br />Eldorado High<br />Highland High<br
  />Manzano High<br />West Mesa High<br />Volcano Vista High<br />Albuquerq
 ue Academy High<br />Rio Rancho High School<br />Del Norte High<br /><br /
 >Location:<br />Nusenda Community Stadium<br />Attachments:<br /><a href="
 http://dnhs.albuquerquenmus.tandem.co/index.php?type=export&action=file&id
 =3106">APS JV City Event Information Track & Field 17-18 (Girls).pdf</a><b
 r /><a href="http://dnhs.albuquerquenmus.tandem.co/index.php?type=export&a
 ction=file&id=3127">2018 JV City Girls Program.pdf</a><br /></body></html>
URL;VALUE=URI:http://dnhs.albuquerquenmus.tandem.co/index.php?type=view&ac
 tion=event&id=75820
CREATED:20180220T210239Z
LAST-MODIFIED:20180418T215440Z
UID:event-75820-albuquerquenmus@intand.com
END:VEVENT
END:VCALENDAR
