BEGIN:VCALENDAR
VERSION:2.0
PRODID:-//Intand Corporation//Tandem//EN
METHOD:PUBLISH
BEGIN:VEVENT
DTSTAMP:20260419T230811Z
DTSTART:20220426T220000Z
DTEND:20220427T000000Z
TRANSP:TRANSPARENT
PRIORITY:0
SUMMARY:Baseball Varsity Los Lunas at La Cueva
LOCATION:La Cueva High
DESCRIPTION:Groups:\nLa Cueva High Baseball Boys Varsity\n\nSchools:\nLa C
 ueva High\nLos Lunas High\n\nLocation:\nLa Cueva High\n\n
URL;VALUE=URI:http://dnhs.albuquerquenmus.tandem.co/index.php?type=view&ac
 tion=event&id=101690
CREATED:20220331T222007Z
LAST-MODIFIED:20220331T222206Z
UID:event-101690-albuquerquenmus@intand.com
END:VEVENT
END:VCALENDAR
