BEGIN:VCALENDAR
VERSION:2.0
PRODID:-//Intand Corporation//Tandem//EN
METHOD:PUBLISH
BEGIN:VEVENT
DTSTAMP:20260419T231131Z
DTSTART:20220425T220000Z
DTEND:20220426T000000Z
TRANSP:TRANSPARENT
PRIORITY:0
SUMMARY:Baseball JV Rio Rancho at La Cueva
LOCATION:La Cueva High
DESCRIPTION:Groups:\nLa Cueva High Baseball Boys JV\n\nSchools:\nLa Cueva 
 High\nRio Rancho High School\n\nLocation:\nLa Cueva High\n\n
URL;VALUE=URI:http://dnhs.albuquerquenmus.tandem.co/index.php?type=view&ac
 tion=event&id=101675
CREATED:20220331T192315Z
LAST-MODIFIED:20220331T192315Z
UID:event-101675-albuquerquenmus@intand.com
END:VEVENT
END:VCALENDAR
