BEGIN:VCALENDAR
VERSION:2.0
PRODID:-//Intand Corporation//Tandem//EN
METHOD:PUBLISH
BEGIN:VEVENT
DTSTAMP:20260419T231014Z
DTSTART:20220407T220000Z
DTEND:20220407T233000Z
TRANSP:TRANSPARENT
PRIORITY:0
SUMMARY:Softball Varsity Valencia at Highland
LOCATION:Highland High
DESCRIPTION:Groups:\nHighland High Softball Varsity\n\nSchools:\nHighland 
 High\nValencia High\n\nLocation:\nHighland High\n\n
URL;VALUE=URI:http://dnhs.albuquerquenmus.tandem.co/index.php?type=view&ac
 tion=event&id=101640
CREATED:20220330T201627Z
LAST-MODIFIED:20220330T201627Z
UID:event-101640-albuquerquenmus@intand.com
END:VEVENT
END:VCALENDAR
