BEGIN:VCALENDAR
VERSION:2.0
PRODID:-//Intand Corporation//Tandem//EN
METHOD:PUBLISH
BEGIN:VEVENT
DTSTAMP:20260419T231027Z
DTSTART:20220328T220000Z
DTEND:20220328T233000Z
TRANSP:TRANSPARENT
PRIORITY:0
SUMMARY:Softball Varsity West Mesa at Valley
LOCATION:Valley High
DESCRIPTION:Groups:\nValley High Softball Varsity\nWest Mesa High Softball
  Varsity\n\nSchools:\nValley High\nWest Mesa High\n\nLocation:\nValley Hig
 h\n\n
URL;VALUE=URI:http://dnhs.albuquerquenmus.tandem.co/index.php?type=view&ac
 tion=event&id=101564
CREATED:20220324T211030Z
LAST-MODIFIED:20220324T211030Z
UID:event-101564-albuquerquenmus@intand.com
END:VEVENT
END:VCALENDAR
