BEGIN:VCALENDAR
VERSION:2.0
PRODID:-//Intand Corporation//Tandem//EN
METHOD:PUBLISH
BEGIN:VEVENT
DTSTAMP:20260419T231129Z
DTSTART:20220419T220000Z
DTEND:20220420T000000Z
TRANSP:TRANSPARENT
PRIORITY:0
SUMMARY:Baseball Varsity Farmington at Rio Grande
LOCATION:Rio Grande High
DESCRIPTION:Groups:\nRio Grande High Baseball Boys Varsity\n\nSchools:\nRi
 o Grande High\nFarmington High\n\nLocation:\nRio Grande High\n\n
URL;VALUE=URI:http://dnhs.albuquerquenmus.tandem.co/index.php?type=view&ac
 tion=event&id=101453
CREATED:20220322T161354Z
LAST-MODIFIED:20220322T161354Z
UID:event-101453-albuquerquenmus@intand.com
END:VEVENT
END:VCALENDAR
