BEGIN:VCALENDAR
VERSION:2.0
PRODID:-//Intand Corporation//Tandem//EN
METHOD:PUBLISH
BEGIN:VEVENT
DTSTAMP:20260420T031546Z
DTSTART:20220316T220000Z
DTEND:20220317T000000Z
TRANSP:TRANSPARENT
PRIORITY:0
SUMMARY:Baseball Varsity Metro Tournament Manzano at West Mesa
LOCATION:West Mesa High
DESCRIPTION:Groups:\nManzano High Baseball Boys Varsity (Away)\nWest Mesa 
 High Baseball Boys Varsity (Home)\n\nSchools:\nManzano High (Neutral)\nWes
 t Mesa High (Neutral)\n\nLocation:\nWest Mesa High\n\n
URL;VALUE=URI:http://dnhs.albuquerquenmus.tandem.co/index.php?type=view&ac
 tion=event&id=101009
CREATED:20220316T013657Z
LAST-MODIFIED:20220316T013657Z
UID:event-101009-albuquerquenmus@intand.com
END:VEVENT
END:VCALENDAR
