BEGIN:VCALENDAR
VERSION:2.0
PRODID:-//Intand Corporation//Tandem//EN
METHOD:PUBLISH
BEGIN:VEVENT
DTSTAMP:20260419T231130Z
DTSTART:20220412T230000Z
DTEND:20220413T003000Z
TRANSP:TRANSPARENT
PRIORITY:0
SUMMARY:[Cancelled] Softball Varsity West Mesa at Del Norte
LOCATION:Del Norte High
DESCRIPTION:Groups:\nDel Norte High Softball Varsity\n\nSchools:\nWest Mes
 a High\nDel Norte High\n\nLocation:\nDel Norte High\n\n
URL;VALUE=URI:http://dnhs.albuquerquenmus.tandem.co/index.php?type=view&ac
 tion=event&id=100969
CREATED:20220310T174728Z
LAST-MODIFIED:20220330T210835Z
UID:event-100969-albuquerquenmus@intand.com
END:VEVENT
END:VCALENDAR
