BEGIN:VCALENDAR
VERSION:2.0
PRODID:-//Intand Corporation//Tandem//EN
METHOD:PUBLISH
BEGIN:VEVENT
DTSTAMP:20260419T230804Z
DTSTART:20220316T220000Z
DTEND:20220317T000000Z
TRANSP:TRANSPARENT
PRIORITY:0
SUMMARY:Metro Softball Valley at Albuquerque High
LOCATION:Albuquerque High
DESCRIPTION:Groups:\nAlbuquerque High Softball Varsity\nValley High Softba
 ll Varsity\n\nSchools:\nValley High\nAlbuquerque High\n\nLocation:\nAlbuqu
 erque High\n\n
URL;VALUE=URI:http://dnhs.albuquerquenmus.tandem.co/index.php?type=view&ac
 tion=event&id=100910
CREATED:20220308T172517Z
LAST-MODIFIED:20220308T172517Z
UID:event-100910-albuquerquenmus@intand.com
END:VEVENT
END:VCALENDAR
