BEGIN:VCALENDAR
VERSION:2.0
PRODID:-//Intand Corporation//Tandem//EN
METHOD:PUBLISH
BEGIN:VEVENT
DTSTAMP:20260419T230949Z
DTSTART:20220408T220000Z
DTEND:20220408T233000Z
TRANSP:TRANSPARENT
PRIORITY:0
SUMMARY:[Cancelled] Softball JV Highland at Del Norte
LOCATION:Del Norte High
DESCRIPTION:Groups:\nHighland High Softball JV\nDel Norte High Softball JV
 \n\nSchools:\nHighland High\nDel Norte High\n\nLocation:\nDel Norte High\n
 \n
URL;VALUE=URI:http://dnhs.albuquerquenmus.tandem.co/index.php?type=view&ac
 tion=event&id=100839
CREATED:20220303T210246Z
LAST-MODIFIED:20220308T001617Z
UID:event-100839-albuquerquenmus@intand.com
END:VEVENT
END:VCALENDAR
