BEGIN:VCALENDAR
VERSION:2.0
PRODID:-//Intand Corporation//Tandem//EN
METHOD:PUBLISH
BEGIN:VEVENT
DTSTAMP:20260420T031515Z
DTSTART:20220330T220000Z
DTEND:20220331T000000Z
TRANSP:TRANSPARENT
PRIORITY:0
SUMMARY:[Cancelled] Baseball\, C Team Albuquerque High at Sandia
LOCATION:Sandia High
DESCRIPTION:Groups:\nAlbuquerque High Baseball C\nSandia High Baseball C\n
 \nSchools:\nSandia High\nAlbuquerque High\n\nLocation:\nSandia High\n\n
URL;VALUE=URI:http://dnhs.albuquerquenmus.tandem.co/index.php?type=view&ac
 tion=event&id=100481
CREATED:20220218T220531Z
LAST-MODIFIED:20220330T215150Z
UID:event-100481-albuquerquenmus@intand.com
END:VEVENT
END:VCALENDAR
