BEGIN:VCALENDAR
VERSION:2.0
PRODID:-//Intand Corporation//Tandem//EN
METHOD:PUBLISH
BEGIN:VEVENT
DTSTAMP:20260419T231128Z
DTSTART:20220307T223000Z
DTEND:20220308T000000Z
TRANSP:TRANSPARENT
PRIORITY:0
SUMMARY:Baseball\, C Team St Pius at Rio Grande
LOCATION:Rio Grande High
DESCRIPTION:Groups:\nRio Grande High Baseball C\n\nSchools:\nSt. Pius X Hi
 gh\nRio Grande High\n\nLocation:\nRio Grande High\n\n
URL;VALUE=URI:http://dnhs.albuquerquenmus.tandem.co/index.php?type=view&ac
 tion=event&id=100373
CREATED:20220210T180210Z
LAST-MODIFIED:20220210T180210Z
UID:event-100373-albuquerquenmus@intand.com
END:VEVENT
END:VCALENDAR
