BEGIN:VCALENDAR
VERSION:2.0
PRODID:-//Intand Corporation//Tandem//EN
METHOD:PUBLISH
BEGIN:VEVENT
DTSTAMP:20260419T231119Z
DTSTART:20220420T220000Z
DTEND:20220421T000000Z
TRANSP:TRANSPARENT
PRIORITY:0
SUMMARY:Baseball\, JV Bosque at Valley 
LOCATION:Valley High
DESCRIPTION:Groups:\nValley High Baseball Boys JV\n\nSchools:\nValley High
 \nBosque School\n\nLocation:\nValley High\n\n
URL;VALUE=URI:http://dnhs.albuquerquenmus.tandem.co/index.php?type=view&ac
 tion=event&id=100371
CREATED:20220209T213938Z
LAST-MODIFIED:20220209T213938Z
UID:event-100371-albuquerquenmus@intand.com
END:VEVENT
END:VCALENDAR
