BEGIN:VCALENDAR
VERSION:2.0
PRODID:-//Intand Corporation//Tandem//EN
METHOD:PUBLISH
BEGIN:VEVENT
DTSTAMP:20260419T230928Z
DTSTART:20220310T223000Z
DTEND:20220311T000000Z
TRANSP:TRANSPARENT
PRIORITY:0
SUMMARY:[Cancelled] Softball\, Varsity SF Indian School at Rio Grande
LOCATION:Rio Grande High
DESCRIPTION:Groups:\nRio Grande High Softball Varsity\nSanta Fe Indian Sch
 ool\n\nSchools:\nRio Grande High\n\nLocation:\nRio Grande High\n\n
URL;VALUE=URI:http://dnhs.albuquerquenmus.tandem.co/index.php?type=view&ac
 tion=event&id=100290
CREATED:20220202T214908Z
LAST-MODIFIED:20220308T000831Z
UID:event-100290-albuquerquenmus@intand.com
END:VEVENT
END:VCALENDAR
