BEGIN:VCALENDAR
VERSION:2.0
PRODID:-//Intand Corporation//Tandem//EN
METHOD:PUBLISH
BEGIN:VEVENT
DTSTAMP:20260419T231110Z
DTSTART:20220429T220000Z
DTEND:20220429T233000Z
TRANSP:TRANSPARENT
PRIORITY:0
SUMMARY:Baseball\, JV Boys La Cueva at Eldorado
LOCATION:Eldorado High
DESCRIPTION:Groups:\nEldorado High Baseball JV\nLa Cueva High Baseball Boy
 s JV\n\nSchools:\nLa Cueva High\nEldorado High\n\nLocation:\nEldorado High
 \n\n
URL;VALUE=URI:http://dnhs.albuquerquenmus.tandem.co/index.php?type=view&ac
 tion=event&id=100289
CREATED:20220202T213149Z
LAST-MODIFIED:20220202T213149Z
UID:event-100289-albuquerquenmus@intand.com
END:VEVENT
END:VCALENDAR
